BEGIN:VCALENDAR
VERSION:2.0
PRODID:-//Maumee Watershed Alliance - ECPv6.13.2.1//NONSGML v1.0//EN
CALSCALE:GREGORIAN
METHOD:PUBLISH
X-ORIGINAL-URL:https://maumeewatershedalliance.org
X-WR-CALDESC:Events for Maumee Watershed Alliance
REFRESH-INTERVAL;VALUE=DURATION:PT1H
X-Robots-Tag:noindex
X-PUBLISHED-TTL:PT1H
BEGIN:VTIMEZONE
TZID:America/Indiana/Indianapolis
BEGIN:DAYLIGHT
TZOFFSETFROM:-0500
TZOFFSETTO:-0400
TZNAME:EDT
DTSTART:20210314T070000
END:DAYLIGHT
BEGIN:STANDARD
TZOFFSETFROM:-0400
TZOFFSETTO:-0500
TZNAME:EST
DTSTART:20211107T060000
END:STANDARD
BEGIN:DAYLIGHT
TZOFFSETFROM:-0500
TZOFFSETTO:-0400
TZNAME:EDT
DTSTART:20220313T070000
END:DAYLIGHT
BEGIN:STANDARD
TZOFFSETFROM:-0400
TZOFFSETTO:-0500
TZNAME:EST
DTSTART:20221106T060000
END:STANDARD
BEGIN:DAYLIGHT
TZOFFSETFROM:-0500
TZOFFSETTO:-0400
TZNAME:EDT
DTSTART:20230312T070000
END:DAYLIGHT
BEGIN:STANDARD
TZOFFSETFROM:-0400
TZOFFSETTO:-0500
TZNAME:EST
DTSTART:20231105T060000
END:STANDARD
BEGIN:DAYLIGHT
TZOFFSETFROM:-0500
TZOFFSETTO:-0400
TZNAME:EDT
DTSTART:20240310T070000
END:DAYLIGHT
BEGIN:STANDARD
TZOFFSETFROM:-0400
TZOFFSETTO:-0500
TZNAME:EST
DTSTART:20241103T060000
END:STANDARD
BEGIN:DAYLIGHT
TZOFFSETFROM:-0500
TZOFFSETTO:-0400
TZNAME:EDT
DTSTART:20250309T070000
END:DAYLIGHT
BEGIN:STANDARD
TZOFFSETFROM:-0400
TZOFFSETTO:-0500
TZNAME:EST
DTSTART:20251102T060000
END:STANDARD
END:VTIMEZONE
BEGIN:VEVENT
DTSTART;TZID=America/Indiana/Indianapolis:20251211T080000
DTEND;TZID=America/Indiana/Indianapolis:20251211T150000
DTSTAMP:20260425T125036
CREATED:20251028T172303Z
LAST-MODIFIED:20251028T172303Z
UID:12978-1765440000-1765465200@maumeewatershedalliance.org
SUMMARY:Rivers Summit IV
DESCRIPTION:
URL:https://maumeewatershedalliance.org/conservation-calendar/rivers-summit-iv/
END:VEVENT
BEGIN:VEVENT
DTSTART;TZID=America/Indiana/Indianapolis:20251120T130000
DTEND;TZID=America/Indiana/Indianapolis:20251120T150000
DTSTAMP:20260425T125036
CREATED:20251028T171942Z
LAST-MODIFIED:20251028T172203Z
UID:12972-1763643600-1763650800@maumeewatershedalliance.org
SUMMARY:MVP Dairy Farm Tour
DESCRIPTION:
URL:https://maumeewatershedalliance.org/conservation-calendar/mvp-dairy-farm-tour/
END:VEVENT
BEGIN:VEVENT
DTSTART;TZID=America/Indiana/Indianapolis:20240609T090000
DTEND;TZID=America/Indiana/Indianapolis:20240609T160000
DTSTAMP:20260425T125036
CREATED:20240418T195157Z
LAST-MODIFIED:20240418T195157Z
UID:7333-1717923600-1717948800@maumeewatershedalliance.org
SUMMARY:SJRWI Hoosier Riverwatch Training
DESCRIPTION:Do you wonder about the\nquality of the water in a stream\nnear you? Would you like to\nbecome a citizen scientist as a\nvolunteer water quality\nmonitor? If so\, join us for this\nFREE workshop to learn to\nmonitor stream health by\nassessing habitat\, biology\, and\nchemistry. \nThe Hoosier Riverwatch program\nis sponsored by the IN Dept. of\nEnvironmental Mgmt\, Office of\nWater Quality whose mission is to\nmonitor\, protect\, and improve\nIndiana’s water resources to\nensure its continued use as a\ndrinking water source\, for wildlife\nhabitat\, and a recreational\nresource and economic asset.
URL:https://maumeewatershedalliance.org/conservation-calendar/sjrwi-hoosier-riverwatch-training/
LOCATION:Eckhart Park\, Auburn
ATTACH;FMTTYPE=image/jpeg:https://maumeewatershedalliance.org/wp-content/uploads/2024/04/HR-Flyer_2024_Update-1.jpg
END:VEVENT
BEGIN:VEVENT
DTSTART;TZID=America/Indiana/Indianapolis:20240608T090000
DTEND;TZID=America/Indiana/Indianapolis:20240608T133000
DTSTAMP:20260425T125036
CREATED:20240418T180635Z
LAST-MODIFIED:20240419T113341Z
UID:7307-1717837200-1717853400@maumeewatershedalliance.org
SUMMARY:Town & Country Tour
DESCRIPTION:
URL:https://maumeewatershedalliance.org/conservation-calendar/town-country-tour/
CATEGORIES:Charity,Education,Fun,Water
ATTACH;FMTTYPE=image/png:https://maumeewatershedalliance.org/wp-content/uploads/2024/04/Town-and-Country-place-holder.png
END:VEVENT
BEGIN:VEVENT
DTSTART;TZID=America/Indiana/Indianapolis:20240519T120000
DTEND;TZID=America/Indiana/Indianapolis:20240519T170000
DTSTAMP:20260425T125036
CREATED:20240418T182949Z
LAST-MODIFIED:20240418T190124Z
UID:7325-1716120000-1716138000@maumeewatershedalliance.org
SUMMARY:Eco Fest
DESCRIPTION:
URL:https://maumeewatershedalliance.org/conservation-calendar/eco-fest/
ATTACH;FMTTYPE=image/jpeg:https://maumeewatershedalliance.org/wp-content/uploads/2024/04/ecofest.jpg
END:VEVENT
BEGIN:VEVENT
DTSTART;TZID=America/Indiana/Indianapolis:20240420T110000
DTEND;TZID=America/Indiana/Indianapolis:20240420T110000
DTSTAMP:20260425T125036
CREATED:20240418T190612Z
LAST-MODIFIED:20240418T195311Z
UID:7327-1713610800-1713610800@maumeewatershedalliance.org
SUMMARY:Make & Take Rain Barrel Workshop
DESCRIPTION:The St. Joseph Watershed Initiative is offering this Make-N-Take Rain Barrel workshop again this spring with our partners at the Maumee Watershed Alliance and ACRES Land Trust.\n\nWe will teach you how to put together your very own rain barrel to use in your backyard and fill you in on why the backyard conservation efforts we make at our homes will have such a huge impact on water quality.\nTwo time slots to choose from: 9am or 10:30am\n\nRegistration is required as spots are limited:https://forms.gle/PSc4A27GthhBucmL8\nCost: $20 to cover the cost of the materials (cash or check).
URL:https://maumeewatershedalliance.org/conservation-calendar/make-7-take-rain-barrel-workshop/
LOCATION:Dustin\, Johnson & Whitehurst Nature Preserve- Huntertown\, 1992 Chapman Road\, Huntertown\, IN
ATTACH;FMTTYPE=image/jpeg:https://maumeewatershedalliance.org/wp-content/uploads/2024/04/rainbarrel.jpg
END:VEVENT
BEGIN:VEVENT
DTSTART;TZID=America/Indiana/Indianapolis:20220515T120000
DTEND;TZID=America/Indiana/Indianapolis:20220515T170000
DTSTAMP:20260425T125036
CREATED:20220427T145658Z
LAST-MODIFIED:20220427T165828Z
UID:4606-1652616000-1652634000@maumeewatershedalliance.org
SUMMARY:Eco Fest
DESCRIPTION:Join the Maumee Watershed Alliance at EcoFest 2022! \nEco Fest features live music\, kids activities\, workshops\, food and drink\, retail and non profit vendors\, and more. \nThis event is FREE and open to all! \nThe MWA will have will be hosting a rain barrel workshop and will also have information booth. \nIf you are interested in the rain barrel workshop please contact Sharon Partridge at (260) 755-8111 to RSVP. \nMore information on Eco Fest can be found  HERE.\n  \n  \n \n 
URL:https://maumeewatershedalliance.org/conservation-calendar/ecofest/
LOCATION:Headwaters Park West\, 330 South Clinton Street\, Fort Wayne\, IN\, 46802\, United States
ATTACH;FMTTYPE=image/jpeg:https://maumeewatershedalliance.org/wp-content/uploads/2022/04/whatsup-ad.jpg
END:VEVENT
BEGIN:VEVENT
DTSTART;TZID=America/Indiana/Indianapolis:20210916T083000
DTEND;TZID=America/Indiana/Indianapolis:20210916T150000
DTSTAMP:20260425T125036
CREATED:20210728T180235Z
LAST-MODIFIED:20210803T201229Z
UID:4368-1631781000-1631804400@maumeewatershedalliance.org
SUMMARY:Rivers Summit III
DESCRIPTION:Join us for Rivers Summit III Join us for Rivers Summit III Tuesday\, Sept. 15th and Wednesday\, 16th 2021. Leaders\, innovators\, elected officials\, and community members come together to discuss the state of our rivers\, the fluid economics of good water\, and how to turn challenges into opportunities. \n\n\n\n\n\nThe Rivers Summit III September 16th event will begin at 9 a.m. and be held at The Grand Wayne Center. The Summit will address federal commitments to water quality\, partnerships that succeed\, the state of the lake (Erie)\, and feature a panel discussion with leaders in water quality followed by a Q&A session. \n\n\n\nTickets for the evening event are priced at $10 each and include a beverage tickets. The day event is priced at $30 and includes lunch and refreshments. Come to both events for a reduced price of only $35. We are offering a 50% student discount and limited scholarships are available. \n\nBuy Tickets \nBuy Tickets on Eventbrite
URL:https://maumeewatershedalliance.org/conservation-calendar/riverssummit-3/
LOCATION:Grand Wayne Convention Center
ATTACH;FMTTYPE=image/jpeg:https://maumeewatershedalliance.org/wp-content/uploads/2021/07/FW-_River-Summit-2020-Logo.jpg
END:VEVENT
BEGIN:VEVENT
DTSTART;TZID=America/Indiana/Indianapolis:20210915T180000
DTEND;TZID=America/Indiana/Indianapolis:20210915T193000
DTSTAMP:20260425T125036
CREATED:20210728T175647Z
LAST-MODIFIED:20210803T202224Z
UID:4345-1631728800-1631734200@maumeewatershedalliance.org
SUMMARY:Rivers Summit III - Evening Social
DESCRIPTION:   \nJoin us for Rivers Summit III \nTuesday\, Sept. 15th and Wednesday\, 16th 2021. \n\n\n\nLeaders\, innovators\, elected officials\, and community members come together to discuss the state of our rivers\, the fluid economics of good water\, and how to turn challenges into opportunities. \n\n\n\nOur Tuesday evening event begins at 6 p.m. and will take place at Promenade Park featuring a social hour\, discussions on the local impacts of riverfront development\, the smart sustainable Great Lakes Region cluster\, and the economics of harmful algal blooms. \n\n\n\n\n\nBuy Tickets\nBuy Tickets on Eventbrite
URL:https://maumeewatershedalliance.org/conservation-calendar/riverssummit/
LOCATION:Promenade Park\, 202 West Superior Street\, Fort Wayne\, IN\, 46802\, United States
ATTACH;FMTTYPE=image/jpeg:https://maumeewatershedalliance.org/wp-content/uploads/2021/07/FW-_River-Summit-2020-Logo.jpg
END:VEVENT
END:VCALENDAR